BEGIN:VCALENDAR
VERSION:2.0
PRODID:-//DUMC - ECPv6.15.16//NONSGML v1.0//EN
CALSCALE:GREGORIAN
METHOD:PUBLISH
X-WR-CALNAME:DUMC
X-ORIGINAL-URL:https://dumc.my
X-WR-CALDESC:Events for DUMC
REFRESH-INTERVAL;VALUE=DURATION:PT1H
X-Robots-Tag:noindex
X-PUBLISHED-TTL:PT1H
BEGIN:VTIMEZONE
TZID:Asia/Kuala_Lumpur
BEGIN:STANDARD
TZOFFSETFROM:+0800
TZOFFSETTO:+0800
TZNAME:+08
DTSTART:20250101T000000
END:STANDARD
END:VTIMEZONE
BEGIN:VEVENT
DTSTART;TZID=Asia/Kuala_Lumpur:20260103T070000
DTEND;TZID=Asia/Kuala_Lumpur:20261205T090000
DTSTAMP:20260423T175321
CREATED:20260109T065818Z
LAST-MODIFIED:20260212T024902Z
UID:10000606-1767423600-1796461200@dumc.my
SUMMARY:Church Prayer Altar (Saturdays)
DESCRIPTION:Saturdays\n7\,00am-9.00am\nHall 3\, Dream Centre \nCome and join us in-person!
URL:https://dumc.my/event/church-prayer-altar-7/
LOCATION:Dream Centre\, 2\, Jalan 13/1\, Seksyen 13\, Petaling Jaya\, Selangor\, 46200\, Malaysia
ATTACH;FMTTYPE=image/webp:https://dumc.my/wp-content/uploads/3-4-Jan-26-PreEndloop.webp
ORGANIZER;CN="DUMC":MAILTO:general@dumc.my
END:VEVENT
BEGIN:VEVENT
DTSTART;TZID=Asia/Kuala_Lumpur:20260226T200000
DTEND;TZID=Asia/Kuala_Lumpur:20260326T220000
DTSTAMP:20260423T175321
CREATED:20260131T070506Z
LAST-MODIFIED:20260318T111508Z
UID:10000910-1772136000-1774562400@dumc.my
SUMMARY:Equip - Quiet Rhythms
DESCRIPTION:[vc_row][vc_column][vc_column_text css=”” woodmart_inline=”no” text_larger=”no” el_class=”popmake-21400″]Quiet Rhythms \nThis Lent\, you are invited to slow down and listen deeply to God through Scripture and silence. Over five weeks\, we will journey together through biblical passages\, allowing God’s Word to shape our prayer\, heal our hearts\, and draw us into deeper trust and abiding. \nThese sessions are spacious and contemplative\, with time for quiet reflection.\nNo prior experience is needed—only a willingness to pause and be present. \nDates: 26 Feb\, 5\, 12\, 19\, 26 Mar\nTime: 8.15pm – 9.15pm (Thursdays)\nMode: Online\nInstructors: Christina Teoh & team \n[/vc_column_text][vc_btn title=”REGISTER HERE” color=”juicy-pink” css=”” link=”url:https%3A%2F%2Ftinyurl.com%2FQuietRhythms|target:_blank”][/vc_column][/vc_row]
URL:https://dumc.my/event/equip-quiet-rhythms/
LOCATION:Online
CATEGORIES:Equip Classes
ATTACH;FMTTYPE=image/png:https://dumc.my/wp-content/uploads/Quiet-Rhythms-2.png
ORGANIZER;CN="Equip":MAILTO:equip@dumc.my
END:VEVENT
BEGIN:VEVENT
DTSTART;TZID=Asia/Kuala_Lumpur:20260228T090000
DTEND;TZID=Asia/Kuala_Lumpur:20260307T130000
DTSTAMP:20260423T175321
CREATED:20260106T085854Z
LAST-MODIFIED:20260207T033412Z
UID:10000578-1772269200-1772888400@dumc.my
SUMMARY:Equip - Basic Doctrine
DESCRIPTION:[vc_row][vc_column][vc_column_text css=”” woodmart_inline=”no” text_larger=”no”]Theology 101 \nDoctrine plays a vital role in a Christian’s life because it is essential for developing a deep relationship with God\, one which glorifies and delights in Him. It helps to grow our knowledge of the Christian faith and guards us from false teachings and wrong assumptions about God. \nThe purpose of this course is to introduce some of the foundational beliefs and teachings of the Christian faith\, which include what we believe\, the life we live\, and our future hope. \nNOTE: Completion of this course is a pre-requisite for baptism and/or membership in DUMC. \nDates: 28 Feb & 7 Mar | 25 Apr & 2 May | 20 & 27 Jun | 1 & 15 Aug (2 sessions)\nTime: 9.00am – 1.00pm (Saturdays)\nMode: In-Person\nInstructors: Merissa Wong[/vc_column_text][/vc_column][/vc_row][vc_row][vc_column][vc_btn title=”REGISTER HERE” color=”juicy-pink” css=”” link=”url:https%3A%2F%2Fdocs.google.com%2Fforms%2Fd%2Fe%2F1FAIpQLSesIJT17baqq6UAC_s2soZ06WnF273taurXQ0oc7MLGlKCgJQ%2Fviewform|target:_blank”][/vc_column][/vc_row]
URL:https://dumc.my/event/basic-doctrine/
LOCATION:Dream Centre\, 2\, Jalan 13/1\, Seksyen 13\, Petaling Jaya\, Selangor\, 46200\, Malaysia
CATEGORIES:Equip Classes
ATTACH;FMTTYPE=image/png:https://dumc.my/wp-content/uploads/Basic-Doctrine-4.png
ORGANIZER;CN="Equip":MAILTO:equip@dumc.my
END:VEVENT
BEGIN:VEVENT
DTSTART;TZID=Asia/Kuala_Lumpur:20260305T200000
DTEND;TZID=Asia/Kuala_Lumpur:20260305T220000
DTSTAMP:20260423T175321
CREATED:20260113T085656Z
LAST-MODIFIED:20260325T084313Z
UID:10000878-1772740800-1772748000@dumc.my
SUMMARY:Equip - Basic Theology
DESCRIPTION:[vc_row][vc_column][vc_column_text css=”” woodmart_inline=”no” text_larger=”no”]Theology 201\nNOTE: You will need to complete all the core courses under Level 1 before taking this course.\n \nTheology is the study of God—to understand who God is\, His nature\, and how He relates to His creation. Through careful reflection on faith\, scripture\, tradition\, and experience\, theology helps believers think clearly about what they believe and how those beliefs shape their lives. \nThis course introduces the study of God\, His relation to creation\, the theological message He has revealed in Scripture\, and the connection between theology and everyday life. What we believe about God inevitably shapes how we live before Him and others. As Thomas Aquinas reminds us\, “Theology teaches of God\, is taught by God\, and leads to God.” \nMode: Online\nDates: 5\, 12\, 19\, 26 Mar\nTime: 8.00pm – 10.00pm (Thursdays) \nInstructors: Karin Soh[/vc_column_text][/vc_column][/vc_row][vc_row][vc_column][vc_btn title=”REGISTER HERE” color=”pink” css=”” link=”url:https%3A%2F%2Fdocs.google.com%2Fforms%2Fd%2Fe%2F1FAIpQLSesIJT17baqq6UAC_s2soZ06WnF273taurXQ0oc7MLGlKCgJQ%2Fviewform|target:_blank”][/vc_column][/vc_row]
URL:https://dumc.my/event/basic-theology/
LOCATION:Online
ATTACH;FMTTYPE=image/png:https://dumc.my/wp-content/uploads/Basic-Theology-1.png
ORGANIZER;CN="DUMC":MAILTO:general@dumc.my
END:VEVENT
BEGIN:VEVENT
DTSTART;TZID=Asia/Kuala_Lumpur:20260307T091500
DTEND;TZID=Asia/Kuala_Lumpur:20260307T110000
DTSTAMP:20260423T175321
CREATED:20260124T015316Z
LAST-MODIFIED:20260220T150902Z
UID:10000890-1772874900-1772881200@dumc.my
SUMMARY:Missions Prayer Meeting
DESCRIPTION:Missions Prayer Meeting for 2026: \n7 Mar\, 4 Apr\, 6 Jun\, 4 Jul\, 1 Aug\, 5 Sep\, 3 Oct (1st Saturday)\n9.15am – 11.00am\nDream Centre\, PJ
URL:https://dumc.my/event/missions-prayer-meeting/2026-03-07/
LOCATION:Dream Centre\, 2\, Jalan 13/1\, Seksyen 13\, Petaling Jaya\, Selangor\, 46200\, Malaysia
ATTACH;FMTTYPE=image/webp:https://dumc.my/wp-content/uploads/DUMC-Website-Missions-Prayer-Meeting.webp
ORGANIZER;CN="DUMC":MAILTO:general@dumc.my
END:VEVENT
BEGIN:VEVENT
DTSTART;TZID=Asia/Kuala_Lumpur:20260307T233000
DTEND;TZID=Asia/Kuala_Lumpur:20260308T010000
DTSTAMP:20260423T175321
CREATED:20260224T071204Z
LAST-MODIFIED:20260224T071204Z
UID:10000914-1772926200-1772931600@dumc.my
SUMMARY:1DUMC Celebration
DESCRIPTION:1DUMC Combined Celebration\n7 Mar | 11.30pm\n8 Mar | 10.00am\nAuditorium\, Dream Centre\, PJ \nMore info: dumc.my/1dumc
URL:https://dumc.my/event/1dumc-celebration-2/
LOCATION:Dream Centre\, 2\, Jalan 13/1\, Seksyen 13\, Petaling Jaya\, Selangor\, 46200\, Malaysia
CATEGORIES:1DUMC
ATTACH;FMTTYPE=image/jpeg:https://dumc.my/wp-content/uploads/1DUMC-2026.jpeg
ORGANIZER;CN="DUMC":MAILTO:general@dumc.my
END:VEVENT
BEGIN:VEVENT
DTSTART;TZID=Asia/Kuala_Lumpur:20260308T100000
DTEND;TZID=Asia/Kuala_Lumpur:20260308T120000
DTSTAMP:20260423T175321
CREATED:20260224T071219Z
LAST-MODIFIED:20260224T071220Z
UID:10000915-1772964000-1772971200@dumc.my
SUMMARY:1DUMC Celebration
DESCRIPTION:1DUMC Combined Celebration\n7 Mar | 11.30pm\n8 Mar | 10.00am\nAuditorium\, Dream Centre\, PJ \nMore info: dumc.my/1dumc
URL:https://dumc.my/event/1dumc-celebration-3/
LOCATION:Dream Centre\, 2\, Jalan 13/1\, Seksyen 13\, Petaling Jaya\, Selangor\, 46200\, Malaysia
CATEGORIES:1DUMC
ATTACH;FMTTYPE=image/jpeg:https://dumc.my/wp-content/uploads/1DUMC-2026.jpeg
ORGANIZER;CN="DUMC":MAILTO:general@dumc.my
END:VEVENT
BEGIN:VEVENT
DTSTART;TZID=Asia/Kuala_Lumpur:20260314T090000
DTEND;TZID=Asia/Kuala_Lumpur:20260314T113000
DTSTAMP:20260423T175321
CREATED:20260227T060315Z
LAST-MODIFIED:20260227T060658Z
UID:10000925-1773478800-1773487800@dumc.my
SUMMARY:MenAlive - Huddle (Mar)
DESCRIPTION:[vc_row][vc_column][vc_video link=”https://youtu.be/zBgjHPHKG7A” css=”” image_poster_switch=”no”][vc_column_text]Fantastic Core\nwith Pr. Benny Liew \n14 Mar\n9.00am – 11.30am\nHall 3\, Dream Centre\nfb.com/MenAliveDUMC[/vc_column_text][/vc_column][/vc_row]
URL:https://dumc.my/event/menalive-huddle-mar/
LOCATION:Dream Centre\, 2\, Jalan 13/1\, Seksyen 13\, Petaling Jaya\, Selangor\, 46200\, Malaysia
CATEGORIES:MenAlive
ATTACH;FMTTYPE=image/webp:https://dumc.my/wp-content/uploads/260314_MA_FC_Mar2026_DNewsPromo-1.webp
ORGANIZER;CN="DUMC":MAILTO:general@dumc.my
END:VEVENT
BEGIN:VEVENT
DTSTART;TZID=Asia/Kuala_Lumpur:20260314T090000
DTEND;TZID=Asia/Kuala_Lumpur:20260314T130000
DTSTAMP:20260423T175321
CREATED:20260124T012159Z
LAST-MODIFIED:20260207T033412Z
UID:10000881-1773478800-1773493200@dumc.my
SUMMARY:Equip - Intro to DUMC
DESCRIPTION:[vc_row][vc_column][vc_column_text css=”” woodmart_inline=”no” text_larger=”no” el_class=”popmake-21397″]Christian Leadership 101\n \nWhy is DUMC not in Damansara Utama?\nWhat does church life mean for a DUMC member? \nThis class is for those considering membership to get acquainted with DUMC\, and for current members who would like to know the history of DUMC and why we are the way we are. \nDates: 14 Mar \nTime: 9.00am – 1.00pm (Saturday)\nMode: In-Person\nInstructors: Pr Mike Ngui[/vc_column_text][vc_btn title=”REGISTER HERE” color=”juicy-pink” css=”” link=”url:https%3A%2F%2Fdocs.google.com%2Fforms%2Fd%2Fe%2F1FAIpQLSesIJT17baqq6UAC_s2soZ06WnF273taurXQ0oc7MLGlKCgJQ%2Fviewform|target:_blank”][/vc_column][/vc_row]
URL:https://dumc.my/event/equip-intro-to-dumc/
LOCATION:Dream Centre\, 2\, Jalan 13/1\, Seksyen 13\, Petaling Jaya\, Selangor\, 46200\, Malaysia
CATEGORIES:Equip Classes
ATTACH;FMTTYPE=image/jpeg:https://dumc.my/wp-content/uploads/Intro-to-DUMC.jpg
ORGANIZER;CN="DUMC":MAILTO:general@dumc.my
END:VEVENT
BEGIN:VEVENT
DTSTART;TZID=Asia/Kuala_Lumpur:20260315T110000
DTEND;TZID=Asia/Kuala_Lumpur:20260315T130000
DTSTAMP:20260423T175321
CREATED:20260131T071146Z
LAST-MODIFIED:20260325T084321Z
UID:10000911-1773572400-1773579600@dumc.my
SUMMARY:Equip - Be Still
DESCRIPTION:[vc_row][vc_column][vc_column_text]Spiritual Formation 101  \nA five sessions video based study by Brian Heasley. The Be Still series will equip you and your community to learn how to develop a regular rhythm and deeper daily relationship with God. \nLearn more about what a “quiet time” is all about — why we do it\, how to do it\, and its importance in our journey of faith. \nTake-home prayer practices are estimated at between 15 to 30 minutes a day. \nDates: 15 Mar – 12 Apr (5 sessions)\nTime: 11.15am – 1.00pm (Sundays)\nMode: In-Person   \nInstructor: Brian Heasley\nLead Facilitator: Edwin Lim \n[/vc_column_text][/vc_column][/vc_row][vc_row][vc_column][vc_btn title=”REGISTER HERE” color=”pink” css=”” link=”url:https%3A%2F%2Fdocs.google.com%2Fforms%2Fd%2Fe%2F1FAIpQLSesIJT17baqq6UAC_s2soZ06WnF273taurXQ0oc7MLGlKCgJQ%2Fviewform|target:_blank”][/vc_column][/vc_row]
URL:https://dumc.my/event/equip-be-still/
LOCATION:Dream Centre\, 2\, Jalan 13/1\, Seksyen 13\, Petaling Jaya\, Selangor\, 46200\, Malaysia
CATEGORIES:Equip Classes
ATTACH;FMTTYPE=image/png:https://dumc.my/wp-content/uploads/Be-Still-1-1.png
ORGANIZER;CN="Equip":MAILTO:equip@dumc.my
END:VEVENT
BEGIN:VEVENT
DTSTART;VALUE=DATE:20260317
DTEND;VALUE=DATE:20260404
DTSTAMP:20260423T175321
CREATED:20260318T103528Z
LAST-MODIFIED:20260318T103600Z
UID:10000934-1773705600-1775260799@dumc.my
SUMMARY:The Way of Love
DESCRIPTION:[vc_row full_width=”stretch_row” mobile_bg_img_hidden=”no” tablet_bg_img_hidden=”no” woodmart_parallax=”0″ woodmart_gradient_switch=”no” row_reverse_mobile=”0″ row_reverse_tablet=”0″ woodmart_disable_overflow=”0″ css=”.vc_custom_1773830155459{background-color: #FFFFFF !important;}”][vc_column][vc_row_inner][vc_column_inner][/vc_column_inner][/vc_row_inner][vc_empty_space woodmart_hide_large=”0″ woodmart_hide_medium=”0″ woodmart_hide_small=”0″ woodmart_hide_extra_small=”0″][vc_column_text css=”.vc_custom_1772778336731{border-radius: 3px !important;}” woodmart_inline=”no” text_larger=”no”] \nThe Way of Love\n[/vc_column_text][vc_row_inner][vc_column_inner width=”1/6″][/vc_column_inner][vc_column_inner width=”2/3″][vc_column_text css=”.vc_custom_1772770334515{border-radius: 3px !important;}” woodmart_color_scheme=”light” woodmart_inline=”no” text_larger=”no”] \nStations of the Cross\n[/vc_column_text][vc_column_text css=”” woodmart_inline=”no” text_larger=”no”] \nThe Stations of the Cross is a devotional journey through the final hours of Jesus Christ’s life on earth. Traditionally marked by fourteen images portraying His Passion—from condemnation to entombment—this practice invites us not only to remember what He endured\, but to prayerfully encounter His love revealed through suffering. \nThis year\, we present an adapted journey of eight stations\, titled The Way of Love. \nAs you move from station to station\, we invite you to slow down\, to behold\, and to listen.[/vc_column_text][/vc_column_inner][vc_column_inner width=”1/6″][/vc_column_inner][/vc_row_inner][vc_row_inner disable_element=”yes” row_reverse_mobile=”0″ row_reverse_tablet=”0″][vc_column_inner width=”1/6″][/vc_column_inner][vc_column_inner width=”2/6″]Plan Your Visit[vc_empty_space height=”25px” woodmart_hide_large=”0″ woodmart_hide_medium=”0″ woodmart_hide_small=”0″ woodmart_hide_extra_small=”0″][/vc_column_inner][vc_column_inner width=”2/6″]Register for Facilitated Session[/vc_column_inner][vc_column_inner width=”1/6″][/vc_column_inner][/vc_row_inner][vc_empty_space height=”24px” woodmart_hide_large=”0″ woodmart_hide_medium=”0″ woodmart_hide_small=”0″ woodmart_hide_extra_small=”0″][vc_column_text css=”.vc_custom_1772770190590{border-radius: 3px !important;}” woodmart_color_scheme=”light” woodmart_inline=”no” text_larger=”no”] \nWhat to Expect\n[/vc_column_text][vc_row_inner][vc_column_inner width=”1/2″][vc_column_text css=”.vc_custom_1772770203544{border-radius: 3px !important;}” woodmart_color_scheme=”light” woodmart_inline=”no” text_larger=”no”]The stations are arranged in a quiet\, gallery-style format to support prayerful reflection. We invite you to enter in silence\, to move unhurriedly\, and to approach each station with reverence. \nYou may choose to sit or stand at the stations—extra chairs are provided around the area for you to reflect and journal. \nA devotional material (booklet) will be provided at the entrance. \nDo bring your own stationery for writing. If not\, one will be provided (limited).[/vc_column_text][/vc_column_inner][vc_column_inner width=”1/2″][vc_column_text css=”” woodmart_inline=”no” text_larger=”no”]No registration is needed and it is open for all. However\, if you wish to join a facilitated session led by one of our leaders\, you may register here. \nPlease take note of peak hours\, which are usually after working hours. \nWe estimate that the journey through the stations will take approximately 1 hour. \nThe gallery is unmanned. If you need assistance\, you can reach out to the security.[/vc_column_text][/vc_column_inner][/vc_row_inner][vc_btn title=”Register for Facilitated Session” color=”danger” align=”center” css=”” link=”url:https%3A%2F%2Fdocs.google.com%2Fspreadsheets%2Fd%2F1KerjXDMYUza0V7ETNphZqUSHZBiOU_Pye-YtVxncfTM%2Fedit%3Fusp%3Dsharing|target:_blank”][vc_empty_space woodmart_hide_large=”0″ woodmart_hide_medium=”0″ woodmart_hide_small=”0″ woodmart_hide_extra_small=”0″][vc_row_inner][vc_column_inner width=”1/6″][/vc_column_inner][vc_column_inner width=”4/6″][vc_column_text css=”.vc_custom_1772779134669{border-radius: 3px !important;}” woodmart_inline=”no” text_larger=”no”] \nOperating Dates and Times:\n\n\n\n17–20 Mar (Tue-Fri)\n7.00am–10.00pm\n(Public)\n\n\n27 Mar (Fri)\n7.00am–9.00am\n(Public)\n\n\n10.00am–1.00pm\n(Closed for Facilitated Session)\nRegister here.\n\n\n1.00pm–10.00pm\n(Public)\n\n\n31 Mar–1 Apr (Tue-Wed)\n7.00am–10.00pm\n(Public)\n\n\n2–3 Apr (Thu-Fri)\n7.00am–6.00pm\n(Public)\n\n\n\n[/vc_column_text][vc_empty_space][/vc_column_inner][vc_column_inner width=”1/6″][/vc_column_inner][/vc_row_inner][vc_column_text css=”.vc_custom_1772771559340{border-radius: 3px !important;}” woodmart_color_scheme=”light” woodmart_inline=”no” text_larger=”no”] \nGuidelines\n[/vc_column_text][vc_column_text css=”.vc_custom_1772778485708{border-radius: 3px !important;}” woodmart_color_scheme=”dark” woodmart_inline=”no” text_larger=”no”]To ensure a pleasant experience for all\, please adhere to the following:[/vc_column_text][vc_row_inner][vc_column_inner width=”1/2″][vc_column_text css=”.vc_custom_1772779111065{border-radius: 3px !important;}” woodmart_inline=”no” text_larger=”no”] \n\nPlease remain silent throughout.\nSwitch your phones to complete silent mode.\nFlash photography is prohibited.\nFood and drinks are prohibited (except bottled water).\nWashrooms in Concourse 1 are closed—please proceed to the one at Dream Cafe.\n\n[/vc_column_text][/vc_column_inner][vc_column_inner width=”1/2″][vc_column_text css=”” woodmart_color_scheme=”dark” woodmart_inline=”no” text_larger=”no”] \n\nThe water dispenser is not available—please proceed to the Garden.\nPlease do not touch the props unless stated otherwise.\nWe don’t recommend children below 16 years of age to walk through and pray the stations of the Cross due to the weighted nature of the materials and practices.\n\n[/vc_column_text][/vc_column_inner][/vc_row_inner][vc_empty_space][vc_row_inner][vc_column_inner width=”1/6″][/vc_column_inner][vc_column_inner width=”2/3″][vc_column_text css=”.vc_custom_1772774304563{border-radius: 3px !important;}” woodmart_color_scheme=”light” woodmart_inline=”no” text_larger=”no”] \nDirections\n[/vc_column_text][vc_column_text css=”.vc_custom_1772779101856{border-radius: 3px !important;}” woodmart_color_scheme=”dark” woodmart_inline=”no” text_larger=”no”]Venue: Concourse 1\, Dream Centre \nAs you enter the main glass door of the building\, immediately turn left and you will see the shutters to Concourse 1. \nParticipants will use the side door to enter\, where the materials will be provided at the entrance.[/vc_column_text][/vc_column_inner][vc_column_inner width=”1/6″][/vc_column_inner][/vc_row_inner][vc_row_inner][vc_column_inner width=”1/6″][/vc_column_inner][vc_column_inner width=”2/6″][vc_btn title=”Open in Google Maps” color=”danger” align=”center” css=”” link=”url:https%3A%2F%2Fshare.google%2F7a9xN9AqVXiEyca0B|target:_blank”][vc_empty_space height=”25px” woodmart_hide_large=”0″ woodmart_hide_medium=”0″ woodmart_hide_small=”0″ woodmart_hide_extra_small=”0″][/vc_column_inner][vc_column_inner width=”2/6″][vc_btn title=”Open in Waze” color=”danger” align=”center” css=”” link=”url:https%3A%2F%2Fwww.waze.com%2Fen%2Flive-map%2Fdirections%2Fdumc-dream-centre-jalan-131-2-petaling-jaya%3Fplace%3Dw.66584607.666108215.406816|target:_blank”][/vc_column_inner][vc_column_inner width=”1/6″][/vc_column_inner][/vc_row_inner][/vc_column][/vc_row]
URL:https://dumc.my/event/the-way-of-love/
LOCATION:Dream Centre\, 2\, Jalan 13/1\, Seksyen 13\, Petaling Jaya\, Selangor\, 46200\, Malaysia
ATTACH;FMTTYPE=image/jpeg:https://dumc.my/wp-content/uploads/Untitled-design-20.jpg
ORGANIZER;CN="DUMC":MAILTO:general@dumc.my
END:VEVENT
BEGIN:VEVENT
DTSTART;TZID=Asia/Kuala_Lumpur:20260321T090000
DTEND;TZID=Asia/Kuala_Lumpur:20260321T120000
DTSTAMP:20260423T175321
CREATED:20260318T102340Z
LAST-MODIFIED:20260318T102518Z
UID:10000933-1774083600-1774094400@dumc.my
SUMMARY:Fearless
DESCRIPTION:[vc_row][vc_column][vc_column_text css=”” woodmart_inline=”no” text_larger=”no”]Fearless \n21 Mar 2026\n9.00am – 12.00pm\nHall 3\, Dream Centre\, PJ \nRegister here[/vc_column_text][/vc_column][/vc_row][vc_row][vc_column][vc_video link=”https://www.youtube.com/watch?v=coUzekQLCwI” css=”” image_poster_switch=”no”][/vc_column][/vc_row]
URL:https://dumc.my/event/fearless/
LOCATION:Dream Centre\, 2\, Jalan 13/1\, Seksyen 13\, Petaling Jaya\, Selangor\, 46200\, Malaysia
ATTACH;FMTTYPE=image/webp:https://dumc.my/wp-content/uploads/Untitled-design-19.webp
ORGANIZER;CN="DUMC":MAILTO:general@dumc.my
END:VEVENT
BEGIN:VEVENT
DTSTART;TZID=Asia/Kuala_Lumpur:20260321T090000
DTEND;TZID=Asia/Kuala_Lumpur:20260321T130000
DTSTAMP:20260423T175321
CREATED:20260131T071744Z
LAST-MODIFIED:20260318T111517Z
UID:10000912-1774083600-1774098000@dumc.my
SUMMARY:Equip - Hearing God in Every Sermon
DESCRIPTION:[vc_row][vc_column][vc_column_text]This workshop helps believers of all ages learn to listen to sermons as a spiritual discipline—not just hear information. Individuals will grow personally in hearing and responding to God\, while cell groups are encouraged to come together to support shared practices\, prayer\, and accountability\, so God’s Word moves from weekend sermons into everyday life shaping how we think\, live\, and follow Christ —expecting real encounters with God and lasting transformation. \nDates: 21 Mar\nTime: 9.00am – 1.00pm (Saturday)\nMode: In-Person\nInstructors: Pr Mike Ngui \n[/vc_column_text][/vc_column][/vc_row][vc_row][vc_column][vc_btn title=”REGISTER HERE” color=”pink” css=”” link=”url:https%3A%2F%2Fdocs.google.com%2Fforms%2Fd%2Fe%2F1FAIpQLSesIJT17baqq6UAC_s2soZ06WnF273taurXQ0oc7MLGlKCgJQ%2Fviewform|target:_blank”][/vc_column][/vc_row]
URL:https://dumc.my/event/equip-listening-workshop/
LOCATION:Dream Centre\, 2\, Jalan 13/1\, Seksyen 13\, Petaling Jaya\, Selangor\, 46200\, Malaysia
CATEGORIES:Equip Classes
ATTACH;FMTTYPE=image/png:https://dumc.my/wp-content/uploads/Hearing-God-in-Every-Sermon-1.png
ORGANIZER;CN="Equip":MAILTO:equip@dumc.my
END:VEVENT
BEGIN:VEVENT
DTSTART;TZID=Asia/Kuala_Lumpur:20260324T200000
DTEND;TZID=Asia/Kuala_Lumpur:20260324T213000
DTSTAMP:20260423T175321
CREATED:20260318T102013Z
LAST-MODIFIED:20260318T102040Z
UID:10000870-1774382400-1774387800@dumc.my
SUMMARY:Tuesday Prayer Altar
DESCRIPTION:[vc_row][vc_column][vc_column_text]24 Mar\, 28 Apr\, 28 Jul\, 25 Aug\, 27 Oct\, 24 Nov\n8.00pm – 9.30pm\nHall 2\, Dream Centre[/vc_column_text][/vc_column][/vc_row][vc_row][vc_column][/vc_column][/vc_row]
URL:https://dumc.my/event/tuesday-prayer-altar-2/
LOCATION:Dream Centre\, 2\, Jalan 13/1\, Seksyen 13\, Petaling Jaya\, Selangor\, 46200\, Malaysia
ATTACH;FMTTYPE=image/webp:https://dumc.my/wp-content/uploads/TPA-2026.webp
ORGANIZER;CN="DUMC":MAILTO:general@dumc.my
END:VEVENT
BEGIN:VEVENT
DTSTART;TZID=Asia/Kuala_Lumpur:20260328T090000
DTEND;TZID=Asia/Kuala_Lumpur:20260328T130000
DTSTAMP:20260423T175321
CREATED:20260205T023601Z
LAST-MODIFIED:20260307T063603Z
UID:10000913-1774688400-1774702800@dumc.my
SUMMARY:Equip - Knowing the Bible
DESCRIPTION:Bible 101\n\n\n\n\n\n\n\nThe Bible is the special revelation of God\, providing life-giving truths about the Creator who forms and shapes us to be His image-bearers to the world. It is the ultimate authority and foundation of the Christian faith; therefore\, it is crucial for us to read the Bible well and be transformed by it. \nCome and encounter this revealed Word of God\, learn to read it well\, and cultivate a rhythm of Bible reading. Let’s heed the words of Jesus when He responded to Satan’s temptation: ‘Man shall not live by bread alone\, but by every word that comes from the mouth of God. \nDates: 28 Mar | 16 May | 22 Aug | 10 Oct \nTime: 9.00am – 1.00pm (Saturday)\nMode: In-Person\nInstructors: Karin Soh \n\n\n\n\n\n\n\n[vc_btn title=”REGISTER HERE” color=”juicy-pink” css=”” link=”url:https%3A%2F%2Fdocs.google.com%2Fforms%2Fd%2Fe%2F1FAIpQLSesIJT17baqq6UAC_s2soZ06WnF273taurXQ0oc7MLGlKCgJQ%2Fviewform|target:_blank”]
URL:https://dumc.my/event/equip-knowing-the-bible/
LOCATION:Dream Centre\, 2\, Jalan 13/1\, Seksyen 13\, Petaling Jaya\, Selangor\, 46200\, Malaysia
CATEGORIES:Equip Classes
ATTACH;FMTTYPE=image/png:https://dumc.my/wp-content/uploads/Knowing-the-Bible-3.png
ORGANIZER;CN="Equip":MAILTO:equip@dumc.my
END:VEVENT
BEGIN:VEVENT
DTSTART;TZID=Asia/Kuala_Lumpur:20260328T190000
DTEND;TZID=Asia/Kuala_Lumpur:20260328T220000
DTSTAMP:20260423T175321
CREATED:20260109T065511Z
LAST-MODIFIED:20260227T061317Z
UID:10000585-1774724400-1774735200@dumc.my
SUMMARY:After7
DESCRIPTION:24 Jan\, 28 Feb\, 28 Mar\, 25 Apr\, 23 May\, 27 Jun\, 25 Jul\, 29 Aug\, 26 Sep\, 31 Oct\, 28 Nov\n7.00pm – 10.00pm\nDream Centre\, PJ\nMore info: instagram.com/after7.my
URL:https://dumc.my/event/after7/2026-03-28/
LOCATION:Dream Centre\, 2\, Jalan 13/1\, Seksyen 13\, Petaling Jaya\, Selangor\, 46200\, Malaysia
CATEGORIES:After7
ATTACH;FMTTYPE=image/jpeg:https://dumc.my/wp-content/uploads/after7hori.jpg
ORGANIZER;CN="DUMC":MAILTO:general@dumc.my
END:VEVENT
END:VCALENDAR