BEGIN:VCALENDAR
VERSION:2.0
PRODID:-//DUMC - ECPv6.15.16//NONSGML v1.0//EN
CALSCALE:GREGORIAN
METHOD:PUBLISH
X-WR-CALNAME:DUMC
X-ORIGINAL-URL:https://dumc.my
X-WR-CALDESC:Events for DUMC
REFRESH-INTERVAL;VALUE=DURATION:PT1H
X-Robots-Tag:noindex
X-PUBLISHED-TTL:PT1H
BEGIN:VTIMEZONE
TZID:Asia/Kuala_Lumpur
BEGIN:STANDARD
TZOFFSETFROM:+0800
TZOFFSETTO:+0800
TZNAME:+08
DTSTART:20240101T000000
END:STANDARD
END:VTIMEZONE
BEGIN:VEVENT
DTSTART;TZID=Asia/Kuala_Lumpur:20260226T200000
DTEND;TZID=Asia/Kuala_Lumpur:20260326T220000
DTSTAMP:20260423T232727
CREATED:20260131T070506Z
LAST-MODIFIED:20260318T111508Z
UID:10000910-1772136000-1774562400@dumc.my
SUMMARY:Equip - Quiet Rhythms
DESCRIPTION:[vc_row][vc_column][vc_column_text css=”” woodmart_inline=”no” text_larger=”no” el_class=”popmake-21400″]Quiet Rhythms \nThis Lent\, you are invited to slow down and listen deeply to God through Scripture and silence. Over five weeks\, we will journey together through biblical passages\, allowing God’s Word to shape our prayer\, heal our hearts\, and draw us into deeper trust and abiding. \nThese sessions are spacious and contemplative\, with time for quiet reflection.\nNo prior experience is needed—only a willingness to pause and be present. \nDates: 26 Feb\, 5\, 12\, 19\, 26 Mar\nTime: 8.15pm – 9.15pm (Thursdays)\nMode: Online\nInstructors: Christina Teoh & team \n[/vc_column_text][vc_btn title=”REGISTER HERE” color=”juicy-pink” css=”” link=”url:https%3A%2F%2Ftinyurl.com%2FQuietRhythms|target:_blank”][/vc_column][/vc_row]
URL:https://dumc.my/event/equip-quiet-rhythms/
LOCATION:Online
CATEGORIES:Equip Classes
ATTACH;FMTTYPE=image/png:https://dumc.my/wp-content/uploads/Quiet-Rhythms-2.png
ORGANIZER;CN="Equip":MAILTO:equip@dumc.my
END:VEVENT
BEGIN:VEVENT
DTSTART;TZID=Asia/Kuala_Lumpur:20260202T090000
DTEND;TZID=Asia/Kuala_Lumpur:20260203T173000
DTSTAMP:20260423T232727
CREATED:20260109T062536Z
LAST-MODIFIED:20260123T080728Z
UID:10000579-1770022800-1770139800@dumc.my
SUMMARY:Global Leadership Summit
DESCRIPTION:The Global Leadership Summit\n2 – 3 Feb 2026\n9.00am – 5.30pm\nDream Centre\, PJ \nRegister: glnmalaysia.org/gls26-kl-engprem/
URL:https://dumc.my/event/global-leadership-summit/
LOCATION:Dream Centre\, 2\, Jalan 13/1\, Seksyen 13\, Petaling Jaya\, Selangor\, 46200\, Malaysia
ATTACH;FMTTYPE=image/jpeg:https://dumc.my/wp-content/uploads/GLS.jpg
ORGANIZER;CN="DUMC":MAILTO:general@dumc.my
END:VEVENT
BEGIN:VEVENT
DTSTART;TZID=Asia/Kuala_Lumpur:20260201T190000
DTEND;TZID=Asia/Kuala_Lumpur:20260202T010000
DTSTAMP:20260423T232727
CREATED:20260109T064325Z
LAST-MODIFIED:20260128T040719Z
UID:10000581-1769972400-1769994000@dumc.my
SUMMARY:1DUMC Prayer Night
DESCRIPTION:1DUMC Prayer Night \n1 Feb 2026\n7.00pm – 1.00am\nHall 1\, Dream Centre\, PJ \nLivestream: dumc.my/live
URL:https://dumc.my/event/1dumc-prayer-night/
LOCATION:Dream Centre\, 2\, Jalan 13/1\, Seksyen 13\, Petaling Jaya\, Selangor\, 46200\, Malaysia
ATTACH;FMTTYPE=image/webp:https://dumc.my/wp-content/uploads/1DUMC-Prayer-Night-1920x1080px.webp
ORGANIZER;CN="DUMC":MAILTO:general@dumc.my
END:VEVENT
BEGIN:VEVENT
DTSTART;TZID=Asia/Kuala_Lumpur:20260131T194500
DTEND;TZID=Asia/Kuala_Lumpur:20260131T194500
DTSTAMP:20260423T232727
CREATED:20260114T083227Z
LAST-MODIFIED:20260212T024926Z
UID:10000879-1769888700-1769888700@dumc.my
SUMMARY:Sparkz - When Life Doesn't Go According to Plan: What Successful People Do Next
DESCRIPTION:[vc_row][vc_column][vc_column_text css=”” woodmart_inline=”no” text_larger=”no”]When Life Doesn’t Go According to Plan:\nWhat Successful People Do Next \nWith Dr Krish Kandiah\nUK Social Innovator | Broadcaster | Speaker \n31 Jan 2026 (Sat)\n7.45pm\nHall 3\, Dream Centre[/vc_column_text][/vc_column][/vc_row][vc_row][vc_column][vc_btn title=”REGISTER HERE” color=”warning” css=”” link=”url:https%3A%2F%2Fdocs.google.com%2Fforms%2Fd%2Fe%2F1FAIpQLSdU14ZjPU9IJ4FW3V9abbpBsX8gy_PUYTwrYw_EjLZlm1JS3g%2Fviewform”][/vc_column][/vc_row]
URL:https://dumc.my/event/sparkz-when-life-doesnt-go-according-to-plan-what-successful-people-do-next/
LOCATION:Dream Centre\, 2\, Jalan 13/1\, Seksyen 13\, Petaling Jaya\, Selangor\, 46200\, Malaysia
ATTACH;FMTTYPE=image/jpeg:https://dumc.my/wp-content/uploads/WhatsApp-Image-2026-01-27-at-9.05.06-AM.jpeg
ORGANIZER;CN="DUMC":MAILTO:general@dumc.my
END:VEVENT
BEGIN:VEVENT
DTSTART;TZID=Asia/Kuala_Lumpur:20260124T190000
DTEND;TZID=Asia/Kuala_Lumpur:20260124T220000
DTSTAMP:20260423T232727
CREATED:20260109T065511Z
LAST-MODIFIED:20260227T061317Z
UID:10000583-1769281200-1769292000@dumc.my
SUMMARY:After7
DESCRIPTION:24 Jan\, 28 Feb\, 28 Mar\, 25 Apr\, 23 May\, 27 Jun\, 25 Jul\, 29 Aug\, 26 Sep\, 31 Oct\, 28 Nov\n7.00pm – 10.00pm\nDream Centre\, PJ\nMore info: instagram.com/after7.my
URL:https://dumc.my/event/after7/2026-01-24/
LOCATION:Dream Centre\, 2\, Jalan 13/1\, Seksyen 13\, Petaling Jaya\, Selangor\, 46200\, Malaysia
CATEGORIES:After7
ATTACH;FMTTYPE=image/jpeg:https://dumc.my/wp-content/uploads/after7hori.jpg
ORGANIZER;CN="DUMC":MAILTO:general@dumc.my
END:VEVENT
BEGIN:VEVENT
DTSTART;TZID=Asia/Kuala_Lumpur:20260124T090000
DTEND;TZID=Asia/Kuala_Lumpur:20260124T130000
DTSTAMP:20260423T232727
CREATED:20260106T083302Z
LAST-MODIFIED:20260207T033412Z
UID:10000570-1769245200-1769259600@dumc.my
SUMMARY:Equip - Ministry of Presence
DESCRIPTION:[vc_row][vc_column][vc_column_text]Ministry 203\nNOTE: You will need to complete all the core courses under Level 1 before taking this course. \nAn Introduction to Spiritual Companionship\nThis course provides structured teaching to exercise the ministry of presence using the principles and practices of spiritual companionship.\nThis provides helpful frameworks and skills to connect\, befriend and journey with others with a deep awareness of God and the different stages of faith.\nSuitable for all who desire to know how to intentionally journey better with others\, in whatever stages of faith they may be. \nMode: In-Person\nDates: 24 Jan\nTime: 9.00am-1.00pm (Saturdays) \nMode: Online\nDates: 23 & 30 Jul (2 sessions)\nTime: 8.00pm – 10.00pm (Thursdays) \nInstructors: Lim Siew Lan[/vc_column_text][/vc_column][/vc_row][vc_row][vc_column][vc_btn title=”REGISTER HERE” color=”pink” css=”” link=”url:https%3A%2F%2Fdocs.google.com%2Fforms%2Fd%2Fe%2F1FAIpQLSesIJT17baqq6UAC_s2soZ06WnF273taurXQ0oc7MLGlKCgJQ%2Fviewform”][/vc_column][/vc_row]
URL:https://dumc.my/event/ministry-of-presence/
LOCATION:Dream Centre\, 2\, Jalan 13/1\, Seksyen 13\, Petaling Jaya\, Selangor\, 46200\, Malaysia
CATEGORIES:Equip Classes
ATTACH;FMTTYPE=image/webp:https://dumc.my/wp-content/uploads/Ministry-of-Presence.webp
ORGANIZER;CN="Equip":MAILTO:equip@dumc.my
END:VEVENT
BEGIN:VEVENT
DTSTART;TZID=Asia/Kuala_Lumpur:20260111T111500
DTEND;TZID=Asia/Kuala_Lumpur:20260111T130000
DTSTAMP:20260423T232727
CREATED:20260106T083302Z
LAST-MODIFIED:20260403T043206Z
UID:10000571-1768130100-1768136400@dumc.my
SUMMARY:Equip - Epic of Eden
DESCRIPTION:[vc_row][vc_column][vc_column_text]Thematic Bible Study \nLet’s be honest: the Old Testament seems so complicated with lineages\, stories\, and laws that it can be hard to make sense of God’s bigger story. In Epic of Eden\, Dr. Sandra Richter jumps into the Old Testament to tell a history of God’s redeeming grace\, weaving together a story that runs from the Garden of Eden to the garden of the New Jerusalem. \nThis class is suitable for all levels. \nEquip Bible studies are small group studies and require self-study prior to the lesson. Come prepared to engage and interact with instructors and students. \nCost for workbook applies. \nDates: 11 Jan-26 Apr 2026 (13 sessions)\nTime: 11.15am – 1.00pm (Sundays)\nMode: In-Person / Online\nInstructor: Sandra Richter\nLead Facilitator: Eileen Wong \nEstimated Self-Study (est.):30 minutes per daily lesson (5 daily lessons a week)[/vc_column_text][/vc_column][/vc_row][vc_row][vc_column][vc_btn title=”REGISTER HERE” color=”pink” css=”” link=”url:https%3A%2F%2Fportal.favortech.net%2Fevents%2Fdiscovery%2Fregistration%2Ff76a89f0cb91bc419542ce9fa43902dc%2Fregistration-for-ibs-epic-of-eden|target:_blank”][/vc_column][/vc_row]
URL:https://dumc.my/event/epic-of-eden/
LOCATION:Dream Centre\, 2\, Jalan 13/1\, Seksyen 13\, Petaling Jaya\, Selangor\, 46200\, Malaysia
CATEGORIES:Equip Classes
ATTACH;FMTTYPE=image/png:https://dumc.my/wp-content/uploads/Epic-of-Eden-1.png
ORGANIZER;CN="Equip":MAILTO:equip@dumc.my
END:VEVENT
BEGIN:VEVENT
DTSTART;TZID=Asia/Kuala_Lumpur:20260105T053000
DTEND;TZID=Asia/Kuala_Lumpur:20260118T070000
DTSTAMP:20260423T232727
CREATED:20260109T062755Z
LAST-MODIFIED:20260212T024909Z
UID:10000580-1767591000-1768719600@dumc.my
SUMMARY:14-Day Fast & Prayer
DESCRIPTION:14-Day Fast & Prayer\n5 – 18 Jan 2026\n5.30am – 7.00am\nHall 1\, Dream Centre\, PJ
URL:https://dumc.my/event/14-day-fast-prayer/
LOCATION:Dream Centre\, 2\, Jalan 13/1\, Seksyen 13\, Petaling Jaya\, Selangor\, 46200\, Malaysia
ATTACH;FMTTYPE=image/webp:https://dumc.my/wp-content/uploads/DUMC-Forerunners-WIDE.webp
ORGANIZER;CN="DUMC":MAILTO:general@dumc.my
END:VEVENT
BEGIN:VEVENT
DTSTART;TZID=Asia/Kuala_Lumpur:20251231T210000
DTEND;TZID=Asia/Kuala_Lumpur:20260101T000000
DTSTAMP:20260423T232728
CREATED:20251216T152503Z
LAST-MODIFIED:20260212T024857Z
UID:10000006-1767214800-1767225600@dumc.my
SUMMARY:Malam@DUMC (A Watchnight Celebration)
DESCRIPTION:Welcome the New Year together at Malam@DUMC\, a meaningful watchnight celebration for the whole family. Join us this New Year’s Eve as we gather to connect\, reflect\, and count down into the year ahead. \nEnjoy a relaxed evening with food trucks to satisfy your supper cravings\, fun-filled activities for children—including sand art for older kids and a mini playland for the younger ones—and engaging moments with our pastors and elders. \nInvite your friends\, bring your families\, and let us celebrate the year that has been while looking ahead with hope and faith to all that God has in store.
URL:https://dumc.my/event/watchnight2025/
LOCATION:Dream Centre\, 2\, Jalan 13/1\, Seksyen 13\, Petaling Jaya\, Selangor\, 46200\, Malaysia
ATTACH;FMTTYPE=image/jpeg:https://dumc.my/wp-content/uploads/251231_DUMC_Malam@DUMC-hori.jpeg
ORGANIZER;CN="DUMC":MAILTO:general@dumc.my
END:VEVENT
BEGIN:VEVENT
DTSTART;TZID=Asia/Kuala_Lumpur:20251225T090000
DTEND;TZID=Asia/Kuala_Lumpur:20251225T130000
DTSTAMP:20260423T232728
CREATED:20260106T083302Z
LAST-MODIFIED:20260106T091022Z
UID:10000573-1766653200-1766667600@dumc.my
SUMMARY:Happy Christmas 幸福圣诞 2025
DESCRIPTION:当神介入，生命从此不再一样\nWhat is the power that turns an ordinary beginning into an extraordinary journey? \nJoin us for a meaningful Christmas Day gathering as we reflect on how God’s intervention can transform lives beyond imagination. \nOur speaker\, Ho Kien Keong（何坚强）\, Co-founder of Konzepte Asia\, is an architect\, workplace ministry leader\, and a founding council member of the Malaysia Focus on the Family Association. Coming from a small-town background with no particular advantages\, he shares a powerful testimony of how God led him from bearing family pressures to establishing his own architectural firm and expanding his work overseas. \nThrough this sharing\, we are invited to see how God works through ordinary lives and circumstances\, shaping journeys marked by grace\, purpose\, and faithfulness. \nDate: 25 Dec 2025Time: 9.00am（第一堂）& 11.30am（第二堂） \nVenue: Hall 1\, Dream Centre
URL:https://dumc.my/event/happy-christmas-%e5%b9%b8%e7%a6%8f%e5%9c%a3%e8%af%9e-2025/
LOCATION:Dream Centre\, 2\, Jalan 13/1\, Seksyen 13\, Petaling Jaya\, Selangor\, 46200\, Malaysia
CATEGORIES:Christmas
ATTACH;FMTTYPE=image/webp:https://dumc.my/wp-content/uploads/何坚强-Ho-Kien-K-e-ong-PPT-final-last.webp
ORGANIZER;CN="DUMC Chinese %E4%B8%AD%E6%96%87%E5%A0%82":MAILTO:info@dumcchinese.my
END:VEVENT
BEGIN:VEVENT
DTSTART;TZID=Asia/Kuala_Lumpur:20251221T090000
DTEND;TZID=Asia/Kuala_Lumpur:20251221T130000
DTSTAMP:20260423T232728
CREATED:20260106T083302Z
LAST-MODIFIED:20260106T091026Z
UID:10000574-1766307600-1766322000@dumc.my
SUMMARY:幸福主日 Happy Sunday
DESCRIPTION:困境，也能走出新人生\n一个你不能错过的生命故事 \nJoin us for a meaningful Sunday gathering as we hear a powerful and hope-filled life story that reminds us how new beginnings can emerge even in the midst of adversity. \nOur speaker\, Kris Chen（陈荣盛）\, is the Co-Founder of Beacon Mart（宝康健康连锁店） and comes from a family business background that includes brands such as Papparich and a cancer hospital. Facing the loss of loved ones and severe challenges in his career\, Kris chose to respond with integrity and love—what seemed like loss became an unexpected turning point. \nThrough his journey\, we are invited to reflect on what truly sustains us in life\, and how faith can lead us through difficulties into renewed purpose and hope. \nDate: 21 December 2025 (Sunday)Time: 9.00am（第一堂）& 11.30am（第二堂）Venue: Dream Centre\, Hall 1
URL:https://dumc.my/event/%e5%b9%b8%e7%a6%8f%e4%b8%bb%e6%97%a5-happy-sunday/
LOCATION:Dream Centre\, 2\, Jalan 13/1\, Seksyen 13\, Petaling Jaya\, Selangor\, 46200\, Malaysia
CATEGORIES:Christmas
ATTACH;FMTTYPE=image/webp:https://dumc.my/wp-content/uploads/Kris-Chen-陈荣盛-sunday-flyer-final.webp
ORGANIZER;CN="DUMC Chinese %E4%B8%AD%E6%96%87%E5%A0%82":MAILTO:info@dumcchinese.my
END:VEVENT
END:VCALENDAR