BEGIN:VCALENDAR
VERSION:2.0
PRODID:-//DUMC - ECPv6.15.16//NONSGML v1.0//EN
CALSCALE:GREGORIAN
METHOD:PUBLISH
X-WR-CALNAME:DUMC
X-ORIGINAL-URL:https://dumc.my
X-WR-CALDESC:Events for DUMC
REFRESH-INTERVAL;VALUE=DURATION:PT1H
X-Robots-Tag:noindex
X-PUBLISHED-TTL:PT1H
BEGIN:VTIMEZONE
TZID:Asia/Kuala_Lumpur
BEGIN:STANDARD
TZOFFSETFROM:+0800
TZOFFSETTO:+0800
TZNAME:+08
DTSTART:20250101T000000
END:STANDARD
END:VTIMEZONE
BEGIN:VEVENT
DTSTART;VALUE=DATE:20260525
DTEND;VALUE=DATE:20260528
DTSTAMP:20260421T170009
CREATED:20260306T074528Z
LAST-MODIFIED:20260403T042209Z
UID:10000929-1779667200-1779926399@dumc.my
SUMMARY:Malaysia Prayer Convention 2026
DESCRIPTION:[vc_row][vc_column][vc_column_text css=”” woodmart_inline=”no” text_larger=”no”]Come Seek His Face Together.\nBe a part of this historic gathering as we unite in prayer for our nation. We would love to have you with us! Sign up now to save your seat. \n  \nPROGRAMME (*SUBJECT TO CHANGES)\nMONDAY\, MAY 25\n3.00pm – 6.00pm   ~ Registration & Tea\n6.00pm – 7.00pm   ~ Dinner\n7.00pm – 8.00pm   ~ Worship and Prayer session\n8.00pm – 10.00pm ~ Sermon \nTUESDAY\, MAY 26\n8.30am – 10.00am ~ Worship and Sermon\n10.00am – 10.30am ~ Prayer\n10.30am – 11.00am ~ Tea\n11.00am – 12.30pm ~ Workshop\n12.30pm – 2.00pm   ~ Lunch\n2.00pm – 3.30pm     ~ Workshop\n3.30pm – 4.00pm     ~ Tea\n4.00pm – 6.00pm     ~ Prayer\n6.00pm – 7.00pm     ~ Dinner\n7.00pm – 8.00pm     ~ Worship and Prayer\n8.00pm – 10.00pm  ~ Sermon\, Healing and Prayer Ministry \nWEDNESDAY\, MAY 27\n8.30am – 10.00am ~ Worship and Sermon\n10.00am – 10.30am ~ Prayer\n10.30am – 11.00am ~ Tea\n11.00am – 12.30pm ~ Commissioning session\n12.30pm – 1.00pm   ~ Lunch[/vc_column_text][vc_btn title=”REGISTER HERE” color=”juicy-pink” css=”” link=”url:%20https%3A%2F%2Ftinyurl.com%2Fmpc-2026|target:_blank”][vc_video link=”https://youtu.be/bL4HxZQy_Ys” align=”center” css=”” image_poster_switch=”no”][/vc_column][/vc_row][vc_row][vc_column][vc_column_text] \n[/vc_column_text][/vc_column][/vc_row]
URL:https://dumc.my/event/mpc2026/
LOCATION:Dream Centre\, 2\, Jalan 13/1\, Seksyen 13\, Petaling Jaya\, Selangor\, 46200\, Malaysia
ATTACH;FMTTYPE=image/webp:https://dumc.my/wp-content/uploads/MPC-2026.webp
END:VEVENT
BEGIN:VEVENT
DTSTART;TZID=Asia/Kuala_Lumpur:20260606T091500
DTEND;TZID=Asia/Kuala_Lumpur:20260606T110000
DTSTAMP:20260421T170009
CREATED:20260124T015316Z
LAST-MODIFIED:20260220T150902Z
UID:10000892-1780737300-1780743600@dumc.my
SUMMARY:Missions Prayer Meeting
DESCRIPTION:Missions Prayer Meeting for 2026: \n7 Mar\, 4 Apr\, 6 Jun\, 4 Jul\, 1 Aug\, 5 Sep\, 3 Oct (1st Saturday)\n9.15am – 11.00am\nDream Centre\, PJ
URL:https://dumc.my/event/missions-prayer-meeting/2026-06-06/
LOCATION:Dream Centre\, 2\, Jalan 13/1\, Seksyen 13\, Petaling Jaya\, Selangor\, 46200\, Malaysia
ATTACH;FMTTYPE=image/webp:https://dumc.my/wp-content/uploads/DUMC-Website-Missions-Prayer-Meeting.webp
ORGANIZER;CN="DUMC":MAILTO:general@dumc.my
END:VEVENT
BEGIN:VEVENT
DTSTART;TZID=Asia/Kuala_Lumpur:20260620T090000
DTEND;TZID=Asia/Kuala_Lumpur:20260704T130000
DTSTAMP:20260421T170009
CREATED:20260414T055950Z
LAST-MODIFIED:20260414T055950Z
UID:10000942-1781946000-1783170000@dumc.my
SUMMARY:Equip - Gospel That Transforms
DESCRIPTION:[vc_row][vc_column][vc_column_text css=”” woodmart_inline=”no” text_larger=”no”]Christian Living 101 \nThe gospel is the power of God for salvation—but it doesn’t just save us. It transforms\, empowers\, and strengthens us to live as the people of God in His kingdom here on earth. \nJoin us for this course to discover how the gospel reshapes your identity\, dismantles idols\, and forms authentic Christian communities. Explore how the Good News equips you to pursue holiness\, reflect Christ in your work and relationships\, and engage your community with purpose—living as an agent of justice\, renewal\, and mission. \nDates: 20 Jun & 4 Jul\nTime: 9.00am-1.00pm (Saturdays)\nMode: In-person\nInstructors: Karin Soh[/vc_column_text][/vc_column][/vc_row][vc_row][vc_column][vc_btn title=”REGISTER HERE” color=”juicy-pink” css=”” link=”url:https%3A%2F%2Fdocs.google.com%2Fforms%2Fd%2Fe%2F1FAIpQLSesIJT17baqq6UAC_s2soZ06WnF273taurXQ0oc7MLGlKCgJQ%2Fviewform|target:_blank”][/vc_column][/vc_row]
URL:https://dumc.my/event/equip-gospel-that-transforms-2/
LOCATION:Dream Centre\, 2\, Jalan 13/1\, Seksyen 13\, Petaling Jaya\, Selangor\, 46200\, Malaysia
CATEGORIES:Equip Classes
ATTACH;FMTTYPE=image/png:https://dumc.my/wp-content/uploads/Gospel-That-Transforms-2.png
ORGANIZER;CN="Equip":MAILTO:equip@dumc.my
END:VEVENT
BEGIN:VEVENT
DTSTART;TZID=Asia/Kuala_Lumpur:20260627T090000
DTEND;TZID=Asia/Kuala_Lumpur:20260627T130000
DTSTAMP:20260421T170009
CREATED:20260414T051722Z
LAST-MODIFIED:20260414T051722Z
UID:10000941-1782550800-1782565200@dumc.my
SUMMARY:Equip - Divorce & Remarriage
DESCRIPTION:[vc_row][vc_column][vc_column_text css=”” woodmart_inline=”no” text_larger=”no” el_class=”popmake-21397″]What DUMC Believes and How to Respond \nAs leaders in DUMC\, it’s only a matter of time before a member comes to you with questions about divorce or remarriage — and those conversations can be hard to navigate. What does the church actually believe? What can you say? Who do you refer them to? \nThis training gives you clear\, practical answers.\nWe’ll cover:\n✅ What DUMC believes about divorce and remarriage — in plain language\n✅ The situations the church recognises\, and those it doesn’t\n✅ What to say\, what not to say\, and when to call in the pastor \nDates: 27 Jun\nTime: 9.00am – 1.00pm \nMode: In-Person\nInstructors: Pastor Mike Ngui\nRegistration is by invitation only[/vc_column_text][/vc_column][/vc_row]
URL:https://dumc.my/event/equip-divorce-remarriage/
LOCATION:Dream Centre\, 2\, Jalan 13/1\, Seksyen 13\, Petaling Jaya\, Selangor\, 46200\, Malaysia
CATEGORIES:Equip Classes
ATTACH;FMTTYPE=image/png:https://dumc.my/wp-content/uploads/Divorce-Remarriage-1.png
ORGANIZER;CN="DUMC":MAILTO:general@dumc.my
END:VEVENT
BEGIN:VEVENT
DTSTART;TZID=Asia/Kuala_Lumpur:20260627T190000
DTEND;TZID=Asia/Kuala_Lumpur:20260627T220000
DTSTAMP:20260421T170009
CREATED:20260109T065511Z
LAST-MODIFIED:20260227T061317Z
UID:10000588-1782586800-1782597600@dumc.my
SUMMARY:After7
DESCRIPTION:24 Jan\, 28 Feb\, 28 Mar\, 25 Apr\, 23 May\, 27 Jun\, 25 Jul\, 29 Aug\, 26 Sep\, 31 Oct\, 28 Nov\n7.00pm – 10.00pm\nDream Centre\, PJ\nMore info: instagram.com/after7.my
URL:https://dumc.my/event/after7/2026-06-27/
LOCATION:Dream Centre\, 2\, Jalan 13/1\, Seksyen 13\, Petaling Jaya\, Selangor\, 46200\, Malaysia
CATEGORIES:After7
ATTACH;FMTTYPE=image/jpeg:https://dumc.my/wp-content/uploads/after7hori.jpg
ORGANIZER;CN="DUMC":MAILTO:general@dumc.my
END:VEVENT
BEGIN:VEVENT
DTSTART;TZID=Asia/Kuala_Lumpur:20260704T091500
DTEND;TZID=Asia/Kuala_Lumpur:20260704T110000
DTSTAMP:20260421T170009
CREATED:20260124T015316Z
LAST-MODIFIED:20260220T150902Z
UID:10000893-1783156500-1783162800@dumc.my
SUMMARY:Missions Prayer Meeting
DESCRIPTION:Missions Prayer Meeting for 2026: \n7 Mar\, 4 Apr\, 6 Jun\, 4 Jul\, 1 Aug\, 5 Sep\, 3 Oct (1st Saturday)\n9.15am – 11.00am\nDream Centre\, PJ
URL:https://dumc.my/event/missions-prayer-meeting/2026-07-04/
LOCATION:Dream Centre\, 2\, Jalan 13/1\, Seksyen 13\, Petaling Jaya\, Selangor\, 46200\, Malaysia
ATTACH;FMTTYPE=image/webp:https://dumc.my/wp-content/uploads/DUMC-Website-Missions-Prayer-Meeting.webp
ORGANIZER;CN="DUMC":MAILTO:general@dumc.my
END:VEVENT
BEGIN:VEVENT
DTSTART;TZID=Asia/Kuala_Lumpur:20260725T190000
DTEND;TZID=Asia/Kuala_Lumpur:20260725T220000
DTSTAMP:20260421T170009
CREATED:20260109T065511Z
LAST-MODIFIED:20260227T061317Z
UID:10000589-1785006000-1785016800@dumc.my
SUMMARY:After7
DESCRIPTION:24 Jan\, 28 Feb\, 28 Mar\, 25 Apr\, 23 May\, 27 Jun\, 25 Jul\, 29 Aug\, 26 Sep\, 31 Oct\, 28 Nov\n7.00pm – 10.00pm\nDream Centre\, PJ\nMore info: instagram.com/after7.my
URL:https://dumc.my/event/after7/2026-07-25/
LOCATION:Dream Centre\, 2\, Jalan 13/1\, Seksyen 13\, Petaling Jaya\, Selangor\, 46200\, Malaysia
CATEGORIES:After7
ATTACH;FMTTYPE=image/jpeg:https://dumc.my/wp-content/uploads/after7hori.jpg
ORGANIZER;CN="DUMC":MAILTO:general@dumc.my
END:VEVENT
BEGIN:VEVENT
DTSTART;TZID=Asia/Kuala_Lumpur:20260728T200000
DTEND;TZID=Asia/Kuala_Lumpur:20260728T213000
DTSTAMP:20260421T170009
CREATED:20260113T074823Z
LAST-MODIFIED:20260312T053745Z
UID:10000873-1785268800-1785274200@dumc.my
SUMMARY:Tuesday Prayer Altar
DESCRIPTION:24 Mar\, 28 Apr\, 28 Jul\, 25 Aug\, 27 Oct\, 24 Nov\n8.00pm – 9.30pm\nHall 2\, Dream Centre
URL:https://dumc.my/event/tuesday-prayer-altar/2026-07-28/
LOCATION:Dream Centre\, 2\, Jalan 13/1\, Seksyen 13\, Petaling Jaya\, Selangor\, 46200\, Malaysia
ATTACH;FMTTYPE=image/webp:https://dumc.my/wp-content/uploads/TPA-2026.webp
ORGANIZER;CN="DUMC":MAILTO:general@dumc.my
END:VEVENT
BEGIN:VEVENT
DTSTART;TZID=Asia/Kuala_Lumpur:20260801T091500
DTEND;TZID=Asia/Kuala_Lumpur:20260801T110000
DTSTAMP:20260421T170009
CREATED:20260124T015316Z
LAST-MODIFIED:20260220T150902Z
UID:10000894-1785575700-1785582000@dumc.my
SUMMARY:Missions Prayer Meeting
DESCRIPTION:Missions Prayer Meeting for 2026: \n7 Mar\, 4 Apr\, 6 Jun\, 4 Jul\, 1 Aug\, 5 Sep\, 3 Oct (1st Saturday)\n9.15am – 11.00am\nDream Centre\, PJ
URL:https://dumc.my/event/missions-prayer-meeting/2026-08-01/
LOCATION:Dream Centre\, 2\, Jalan 13/1\, Seksyen 13\, Petaling Jaya\, Selangor\, 46200\, Malaysia
ATTACH;FMTTYPE=image/webp:https://dumc.my/wp-content/uploads/DUMC-Website-Missions-Prayer-Meeting.webp
ORGANIZER;CN="DUMC":MAILTO:general@dumc.my
END:VEVENT
BEGIN:VEVENT
DTSTART;TZID=Asia/Kuala_Lumpur:20260822T190000
DTEND;TZID=Asia/Kuala_Lumpur:20260822T220000
DTSTAMP:20260421T170009
CREATED:20260109T065511Z
LAST-MODIFIED:20260227T061317Z
UID:10000927-1787425200-1787436000@dumc.my
SUMMARY:After7
DESCRIPTION:24 Jan\, 28 Feb\, 28 Mar\, 25 Apr\, 23 May\, 27 Jun\, 25 Jul\, 29 Aug\, 26 Sep\, 31 Oct\, 28 Nov\n7.00pm – 10.00pm\nDream Centre\, PJ\nMore info: instagram.com/after7.my
URL:https://dumc.my/event/after7/2026-08-22/
LOCATION:Dream Centre\, 2\, Jalan 13/1\, Seksyen 13\, Petaling Jaya\, Selangor\, 46200\, Malaysia
CATEGORIES:After7
ATTACH;FMTTYPE=image/jpeg:https://dumc.my/wp-content/uploads/after7hori.jpg
ORGANIZER;CN="DUMC":MAILTO:general@dumc.my
END:VEVENT
BEGIN:VEVENT
DTSTART;TZID=Asia/Kuala_Lumpur:20260825T200000
DTEND;TZID=Asia/Kuala_Lumpur:20260825T213000
DTSTAMP:20260421T170009
CREATED:20260113T074823Z
LAST-MODIFIED:20260312T053745Z
UID:10000874-1787688000-1787693400@dumc.my
SUMMARY:Tuesday Prayer Altar
DESCRIPTION:24 Mar\, 28 Apr\, 28 Jul\, 25 Aug\, 27 Oct\, 24 Nov\n8.00pm – 9.30pm\nHall 2\, Dream Centre
URL:https://dumc.my/event/tuesday-prayer-altar/2026-08-25/
LOCATION:Dream Centre\, 2\, Jalan 13/1\, Seksyen 13\, Petaling Jaya\, Selangor\, 46200\, Malaysia
ATTACH;FMTTYPE=image/webp:https://dumc.my/wp-content/uploads/TPA-2026.webp
ORGANIZER;CN="DUMC":MAILTO:general@dumc.my
END:VEVENT
BEGIN:VEVENT
DTSTART;TZID=Asia/Kuala_Lumpur:20260829T190000
DTEND;TZID=Asia/Kuala_Lumpur:20260829T220000
DTSTAMP:20260421T170009
CREATED:20260109T065511Z
LAST-MODIFIED:20260227T061317Z
UID:10000868-1788030000-1788040800@dumc.my
SUMMARY:After7
DESCRIPTION:24 Jan\, 28 Feb\, 28 Mar\, 25 Apr\, 23 May\, 27 Jun\, 25 Jul\, 29 Aug\, 26 Sep\, 31 Oct\, 28 Nov\n7.00pm – 10.00pm\nDream Centre\, PJ\nMore info: instagram.com/after7.my
URL:https://dumc.my/event/after7/2026-08-29/
LOCATION:Dream Centre\, 2\, Jalan 13/1\, Seksyen 13\, Petaling Jaya\, Selangor\, 46200\, Malaysia
CATEGORIES:After7
ATTACH;FMTTYPE=image/jpeg:https://dumc.my/wp-content/uploads/after7hori.jpg
ORGANIZER;CN="DUMC":MAILTO:general@dumc.my
END:VEVENT
BEGIN:VEVENT
DTSTART;TZID=Asia/Kuala_Lumpur:20260905T091500
DTEND;TZID=Asia/Kuala_Lumpur:20260905T110000
DTSTAMP:20260421T170009
CREATED:20260124T015316Z
LAST-MODIFIED:20260220T150902Z
UID:10000895-1788599700-1788606000@dumc.my
SUMMARY:Missions Prayer Meeting
DESCRIPTION:Missions Prayer Meeting for 2026: \n7 Mar\, 4 Apr\, 6 Jun\, 4 Jul\, 1 Aug\, 5 Sep\, 3 Oct (1st Saturday)\n9.15am – 11.00am\nDream Centre\, PJ
URL:https://dumc.my/event/missions-prayer-meeting/2026-09-05/
LOCATION:Dream Centre\, 2\, Jalan 13/1\, Seksyen 13\, Petaling Jaya\, Selangor\, 46200\, Malaysia
ATTACH;FMTTYPE=image/webp:https://dumc.my/wp-content/uploads/DUMC-Website-Missions-Prayer-Meeting.webp
ORGANIZER;CN="DUMC":MAILTO:general@dumc.my
END:VEVENT
BEGIN:VEVENT
DTSTART;TZID=Asia/Kuala_Lumpur:20260926T190000
DTEND;TZID=Asia/Kuala_Lumpur:20260926T220000
DTSTAMP:20260421T170009
CREATED:20260109T065511Z
LAST-MODIFIED:20260227T061317Z
UID:10000591-1790449200-1790460000@dumc.my
SUMMARY:After7
DESCRIPTION:24 Jan\, 28 Feb\, 28 Mar\, 25 Apr\, 23 May\, 27 Jun\, 25 Jul\, 29 Aug\, 26 Sep\, 31 Oct\, 28 Nov\n7.00pm – 10.00pm\nDream Centre\, PJ\nMore info: instagram.com/after7.my
URL:https://dumc.my/event/after7/2026-09-26/
LOCATION:Dream Centre\, 2\, Jalan 13/1\, Seksyen 13\, Petaling Jaya\, Selangor\, 46200\, Malaysia
CATEGORIES:After7
ATTACH;FMTTYPE=image/jpeg:https://dumc.my/wp-content/uploads/after7hori.jpg
ORGANIZER;CN="DUMC":MAILTO:general@dumc.my
END:VEVENT
BEGIN:VEVENT
DTSTART;TZID=Asia/Kuala_Lumpur:20261003T091500
DTEND;TZID=Asia/Kuala_Lumpur:20261003T110000
DTSTAMP:20260421T170009
CREATED:20260124T015316Z
LAST-MODIFIED:20260220T150902Z
UID:10000896-1791018900-1791025200@dumc.my
SUMMARY:Missions Prayer Meeting
DESCRIPTION:Missions Prayer Meeting for 2026: \n7 Mar\, 4 Apr\, 6 Jun\, 4 Jul\, 1 Aug\, 5 Sep\, 3 Oct (1st Saturday)\n9.15am – 11.00am\nDream Centre\, PJ
URL:https://dumc.my/event/missions-prayer-meeting/2026-10-03/
LOCATION:Dream Centre\, 2\, Jalan 13/1\, Seksyen 13\, Petaling Jaya\, Selangor\, 46200\, Malaysia
ATTACH;FMTTYPE=image/webp:https://dumc.my/wp-content/uploads/DUMC-Website-Missions-Prayer-Meeting.webp
ORGANIZER;CN="DUMC":MAILTO:general@dumc.my
END:VEVENT
BEGIN:VEVENT
DTSTART;TZID=Asia/Kuala_Lumpur:20261024T190000
DTEND;TZID=Asia/Kuala_Lumpur:20261024T220000
DTSTAMP:20260421T170009
CREATED:20260109T065511Z
LAST-MODIFIED:20260227T061317Z
UID:10000928-1792868400-1792879200@dumc.my
SUMMARY:After7
DESCRIPTION:24 Jan\, 28 Feb\, 28 Mar\, 25 Apr\, 23 May\, 27 Jun\, 25 Jul\, 29 Aug\, 26 Sep\, 31 Oct\, 28 Nov\n7.00pm – 10.00pm\nDream Centre\, PJ\nMore info: instagram.com/after7.my
URL:https://dumc.my/event/after7/2026-10-24/
LOCATION:Dream Centre\, 2\, Jalan 13/1\, Seksyen 13\, Petaling Jaya\, Selangor\, 46200\, Malaysia
CATEGORIES:After7
ATTACH;FMTTYPE=image/jpeg:https://dumc.my/wp-content/uploads/after7hori.jpg
ORGANIZER;CN="DUMC":MAILTO:general@dumc.my
END:VEVENT
BEGIN:VEVENT
DTSTART;TZID=Asia/Kuala_Lumpur:20261027T200000
DTEND;TZID=Asia/Kuala_Lumpur:20261027T213000
DTSTAMP:20260421T170009
CREATED:20260113T074823Z
LAST-MODIFIED:20260312T053745Z
UID:10000875-1793131200-1793136600@dumc.my
SUMMARY:Tuesday Prayer Altar
DESCRIPTION:24 Mar\, 28 Apr\, 28 Jul\, 25 Aug\, 27 Oct\, 24 Nov\n8.00pm – 9.30pm\nHall 2\, Dream Centre
URL:https://dumc.my/event/tuesday-prayer-altar/2026-10-27/
LOCATION:Dream Centre\, 2\, Jalan 13/1\, Seksyen 13\, Petaling Jaya\, Selangor\, 46200\, Malaysia
ATTACH;FMTTYPE=image/webp:https://dumc.my/wp-content/uploads/TPA-2026.webp
ORGANIZER;CN="DUMC":MAILTO:general@dumc.my
END:VEVENT
BEGIN:VEVENT
DTSTART;TZID=Asia/Kuala_Lumpur:20261031T190000
DTEND;TZID=Asia/Kuala_Lumpur:20261031T220000
DTSTAMP:20260421T170009
CREATED:20260109T065511Z
LAST-MODIFIED:20260227T061317Z
UID:10000869-1793473200-1793484000@dumc.my
SUMMARY:After7
DESCRIPTION:24 Jan\, 28 Feb\, 28 Mar\, 25 Apr\, 23 May\, 27 Jun\, 25 Jul\, 29 Aug\, 26 Sep\, 31 Oct\, 28 Nov\n7.00pm – 10.00pm\nDream Centre\, PJ\nMore info: instagram.com/after7.my
URL:https://dumc.my/event/after7/2026-10-31/
LOCATION:Dream Centre\, 2\, Jalan 13/1\, Seksyen 13\, Petaling Jaya\, Selangor\, 46200\, Malaysia
CATEGORIES:After7
ATTACH;FMTTYPE=image/jpeg:https://dumc.my/wp-content/uploads/after7hori.jpg
ORGANIZER;CN="DUMC":MAILTO:general@dumc.my
END:VEVENT
BEGIN:VEVENT
DTSTART;TZID=Asia/Kuala_Lumpur:20261124T200000
DTEND;TZID=Asia/Kuala_Lumpur:20261124T213000
DTSTAMP:20260421T170009
CREATED:20260113T074823Z
LAST-MODIFIED:20260312T053745Z
UID:10000876-1795550400-1795555800@dumc.my
SUMMARY:Tuesday Prayer Altar
DESCRIPTION:24 Mar\, 28 Apr\, 28 Jul\, 25 Aug\, 27 Oct\, 24 Nov\n8.00pm – 9.30pm\nHall 2\, Dream Centre
URL:https://dumc.my/event/tuesday-prayer-altar/2026-11-24/
LOCATION:Dream Centre\, 2\, Jalan 13/1\, Seksyen 13\, Petaling Jaya\, Selangor\, 46200\, Malaysia
ATTACH;FMTTYPE=image/webp:https://dumc.my/wp-content/uploads/TPA-2026.webp
ORGANIZER;CN="DUMC":MAILTO:general@dumc.my
END:VEVENT
BEGIN:VEVENT
DTSTART;TZID=Asia/Kuala_Lumpur:20261128T190000
DTEND;TZID=Asia/Kuala_Lumpur:20261128T220000
DTSTAMP:20260421T170009
CREATED:20260109T065511Z
LAST-MODIFIED:20260227T061317Z
UID:10000593-1795892400-1795903200@dumc.my
SUMMARY:After7
DESCRIPTION:24 Jan\, 28 Feb\, 28 Mar\, 25 Apr\, 23 May\, 27 Jun\, 25 Jul\, 29 Aug\, 26 Sep\, 31 Oct\, 28 Nov\n7.00pm – 10.00pm\nDream Centre\, PJ\nMore info: instagram.com/after7.my
URL:https://dumc.my/event/after7/2026-11-28/
LOCATION:Dream Centre\, 2\, Jalan 13/1\, Seksyen 13\, Petaling Jaya\, Selangor\, 46200\, Malaysia
CATEGORIES:After7
ATTACH;FMTTYPE=image/jpeg:https://dumc.my/wp-content/uploads/after7hori.jpg
ORGANIZER;CN="DUMC":MAILTO:general@dumc.my
END:VEVENT
END:VCALENDAR