BEGIN:VCALENDAR
VERSION:2.0
PRODID:-//DUMC - ECPv6.15.16//NONSGML v1.0//EN
CALSCALE:GREGORIAN
METHOD:PUBLISH
X-WR-CALNAME:DUMC
X-ORIGINAL-URL:https://dumc.my
X-WR-CALDESC:Events for DUMC
REFRESH-INTERVAL;VALUE=DURATION:PT1H
X-Robots-Tag:noindex
X-PUBLISHED-TTL:PT1H
BEGIN:VTIMEZONE
TZID:Asia/Kuala_Lumpur
BEGIN:STANDARD
TZOFFSETFROM:+0800
TZOFFSETTO:+0800
TZNAME:+08
DTSTART:20250101T000000
END:STANDARD
END:VTIMEZONE
BEGIN:VEVENT
DTSTART;VALUE=DATE:20260424
DTEND;VALUE=DATE:20260427
DTSTAMP:20260423T190814
CREATED:20260106T083301Z
LAST-MODIFIED:20260307T071153Z
UID:10000572-1776988800-1777247999@dumc.my
SUMMARY:Equip - From the Beginning\, God With Us
DESCRIPTION:[vc_row][vc_column][vc_column_text css=”” woodmart_inline=”no” text_larger=”no”]“In the beginning was the Word… and the Word became flesh and dwelt among us.” (John 1:1\, 14). This retreat invites us to listen deeper\, to notice God’s presence woven through creation\, scripture and the spaces of our hearts. We return to the One who creates\, who calls\, who loves. Ponder and rest in the truth that God is before all things and is with us in all things\, before our thoughts\, efforts or prayers. \nDate:  24 – 26 April 2026\nVenue: Rumah Methodist\, Fraser’s Hill\nContribution: RM380 (Malaysians) & SGD230 (Non-Malaysians)\nFacilitator: Lim Siew Lan & Team \nRegistration Opens on 2 Jan 2026. \n[/vc_column_text][/vc_column][/vc_row][vc_row][vc_column][vc_btn title=”REGISTER HERE” color=”pink” css=”” link=”url:http%3A%2F%2Ftinyurl.com%2FICM-Apr26Retreat”][/vc_column][/vc_row]
URL:https://dumc.my/event/from-the-beginning-god-with-us/
LOCATION:Rumah Methodist\, Fraser’s Hill\, Rumah Methodist\, Fraser's Hill\, Bukit Fraser\, Pahang\, 49000\, Malaysia
CATEGORIES:Equip Classes
ATTACH;FMTTYPE=image/png:https://dumc.my/wp-content/uploads/From-the-Beginning-God-with-Us-1.png
ORGANIZER;CN="Equip":MAILTO:equip@dumc.my
END:VEVENT
END:VCALENDAR